BEGIN:VCALENDAR
VERSION:2.0
PRODID:-//Discover Woodway - ECPv6.15.20//NONSGML v1.0//EN
CALSCALE:GREGORIAN
METHOD:PUBLISH
X-WR-CALNAME:Discover Woodway
X-ORIGINAL-URL:https://discoverwoodway.com
X-WR-CALDESC:Events for Discover Woodway
REFRESH-INTERVAL;VALUE=DURATION:PT1H
X-Robots-Tag:noindex
X-PUBLISHED-TTL:PT1H
BEGIN:VTIMEZONE
TZID:UTC
BEGIN:STANDARD
TZOFFSETFROM:+0000
TZOFFSETTO:+0000
TZNAME:UTC
DTSTART:20210101T000000
END:STANDARD
END:VTIMEZONE
BEGIN:VEVENT
DTSTART;TZID=UTC:20220707T180000
DTEND;TZID=UTC:20220707T210000
DTSTAMP:20260421T065631
CREATED:20220609T131617Z
LAST-MODIFIED:20220609T204904Z
UID:4550-1657216800-1657227600@discoverwoodway.com
SUMMARY:Taste of Southern Roots: Craft Beer Tasting and Concert
DESCRIPTION:Join Discover Woodway for the Taste of Southern Roots: Craft Beer Tasting and Concert | \nJuly 7th | Doors open at 6:00PM | Pavilion Event Center | \nEnjoy a craft beer tasting\, food\, and live music from David Ramirez and Brett Welch! \n 
URL:https://discoverwoodway.com/event/taste-of-southern-roots-craft-beer-tasting-and-concert/
LOCATION:Pavilion at the Carleen Bright Arboretum\, 1 Pavilion Way\, Woodway\, TX\, 76712
CATEGORIES:Craft Beer Tasting,Live Music
ATTACH;FMTTYPE=image/png:https://discoverwoodway.com/wp-content/uploads/2022/06/craftbeereventtile-1.png
ORGANIZER;CN="Discover Woodway":MAILTO:events@woodwaytexas.gov
END:VEVENT
END:VCALENDAR