BEGIN:VCALENDAR
VERSION:2.0
PRODID:-//Discover Woodway - ECPv6.15.20//NONSGML v1.0//EN
CALSCALE:GREGORIAN
METHOD:PUBLISH
X-ORIGINAL-URL:https://discoverwoodway.com
X-WR-CALDESC:Events for Discover Woodway
REFRESH-INTERVAL;VALUE=DURATION:PT1H
X-Robots-Tag:noindex
X-PUBLISHED-TTL:PT1H
BEGIN:VTIMEZONE
TZID:UTC
BEGIN:STANDARD
TZOFFSETFROM:+0000
TZOFFSETTO:+0000
TZNAME:UTC
DTSTART:19690101T000000
END:STANDARD
END:VTIMEZONE
BEGIN:VEVENT
DTSTART;TZID=UTC:20211005T180000
DTEND;TZID=UTC:20211005T200000
DTSTAMP:20260421T091613
CREATED:20210923T202155Z
LAST-MODIFIED:20210923T203438Z
UID:4414-1633456800-1633464000@discoverwoodway.com
SUMMARY:CANCELED: National Night Out
DESCRIPTION:— CANCELED — \nWoodway Public Safety Department \nCome and meet your neighborhood’s first responders!\nTour firetrucks\, police cars\, and SWAT vehicles \n-White Hall Park\, 369 Santa Fe Drive\n-Poage Park\, 100 Poage Drive\n-Trinity at Badger Ranch\, 2 Richie Road
URL:https://discoverwoodway.com/event/canceled-national-night-out/
CATEGORIES:Public Safety Meet & Greet
ATTACH;FMTTYPE=image/png:https://discoverwoodway.com/wp-content/uploads/2021/08/NationalNightOutCanceled.png
END:VEVENT
BEGIN:VEVENT
DTSTART;TZID=UTC:20260421T091613
DTEND;TZID=UTC:20260421T091613
DTSTAMP:20260421T091613
CREATED:20210812T204114Z
LAST-MODIFIED:20210923T133747Z
UID:4357-0-0@discoverwoodway.com
SUMMARY:National Night Out
DESCRIPTION:With the high Covid numbers in our county\, including our community and the Woodway Public Safety department\, we will be canceling  National Night Out which was scheduled for October 5th. We look forward to seeing everyone at WPSD’s next event which will be the Cops and Kids Halloween Drive-Thru on October 30th!
URL:https://discoverwoodway.com/event/national-night-out/
LOCATION:Whitehall Park\, 360 Santa Fe Drive\, Woodway\, TX\, 76712
CATEGORIES:Public Safety Meet & Greet
ATTACH;FMTTYPE=image/png:https://discoverwoodway.com/wp-content/uploads/2021/08/NationalNightOutCanceled.png
END:VEVENT
END:VCALENDAR